BEGIN:VCALENDAR
VERSION:2.0
PRODID:icalendar-ruby
CALSCALE:GREGORIAN
BEGIN:VEVENT
DTSTAMP:20260424T095908Z
UID:68f8b776-bf29-40db-a131-97abf709678b
DTSTART;TZID=Pacific/Auckland:20260425T123000
DTEND;TZID=Pacific/Auckland:20260425T130000
DESCRIPTION:Property ID# 606067
SUMMARY:Openhome for 1B/20 Oriental Terrace
END:VEVENT
END:VCALENDAR
