BEGIN:VCALENDAR
VERSION:2.0
PRODID:icalendar-ruby
CALSCALE:GREGORIAN
BEGIN:VEVENT
DTSTAMP:20260420T090202Z
UID:cf609f7b-f68a-409a-8a9a-4e618831a23f
DTSTART;TZID=Pacific/Auckland:20260419T120000
DTEND;TZID=Pacific/Auckland:20260419T123000
DESCRIPTION:Property ID# 603375
SUMMARY:Openhome for 637 Evans Bay Parade
END:VEVENT
END:VCALENDAR
