BEGIN:VCALENDAR
VERSION:2.0
PRODID:icalendar-ruby
CALSCALE:GREGORIAN
BEGIN:VEVENT
DTSTAMP:20260420T083402Z
UID:8665f536-9f18-43e4-a779-c6cd88980242
DTSTART;VALUE=DATE:20260423
DESCRIPTION:Property ID# 606173\, Locatoin: Lowe & Co Realty 8 Kent Terrace
 \, Mount Victoria\, Time: 12:00PM
SUMMARY:Auction for 39 Tanera Crescent
END:VEVENT
END:VCALENDAR
