BEGIN:VCALENDAR
VERSION:2.0
PRODID:icalendar-ruby
CALSCALE:GREGORIAN
BEGIN:VEVENT
DTSTAMP:20260419T163402Z
UID:e9e2623d-66f9-4ca9-b6a0-851f5c758299
DTSTART;VALUE=DATE:20260312
DESCRIPTION:Property ID# 604197\, Locatoin: 8 Kent Terrace\, Wellington\, T
 ime: 1:00PM
SUMMARY:Auction for 
END:VEVENT
END:VCALENDAR
