BEGIN:VCALENDAR
VERSION:2.0
PRODID:icalendar-ruby
CALSCALE:GREGORIAN
BEGIN:VEVENT
DTSTAMP:20260424T095705Z
UID:f3000717-dfb1-47dd-99f0-c8d1ba680826
DTSTART;VALUE=DATE:20260220
DESCRIPTION:Property ID# 602510\, Locatoin: 8 Kent Terrace\, Wellington\, T
 ime: 12:00PM
SUMMARY:Auction for 
END:VEVENT
END:VCALENDAR
