BEGIN:VCALENDAR
VERSION:2.0
PRODID:icalendar-ruby
CALSCALE:GREGORIAN
BEGIN:VEVENT
DTSTAMP:20260419T170057Z
UID:b79a05c0-d1f1-49bb-8df5-2892c9bb0eaa
DTSTART;VALUE=DATE:20251120
DESCRIPTION:Property ID# 599667\, Locatoin: 8 Kent Terrace\, Wellington \, 
 Time: 1:00PM
SUMMARY:Auction for 
END:VEVENT
END:VCALENDAR
