BEGIN:VCALENDAR
VERSION:2.0
PRODID:icalendar-ruby
CALSCALE:GREGORIAN
BEGIN:VEVENT
DTSTAMP:20260424T095603Z
UID:d3ec6195-3395-4467-810a-b98a732b036b
DTSTART;VALUE=DATE:20251128
DESCRIPTION:Property ID# 599364\, Time: 11:00AM
SUMMARY:Auction for 
END:VEVENT
END:VCALENDAR
