BEGIN:VCALENDAR
VERSION:2.0
PRODID:icalendar-ruby
CALSCALE:GREGORIAN
BEGIN:VEVENT
DTSTAMP:20260419T164611Z
UID:e1084d79-4433-44b7-ab85-df5c6d07ef13
DTSTART;VALUE=DATE:20251031
DESCRIPTION:Property ID# 598601\, Locatoin: 8 Kent Terrace\, Wellington \, 
 Time: 1:00PM
SUMMARY:Auction for 
END:VEVENT
END:VCALENDAR
