BEGIN:VCALENDAR
VERSION:2.0
PRODID:icalendar-ruby
CALSCALE:GREGORIAN
BEGIN:VEVENT
DTSTAMP:20260421T152907Z
UID:4164d52e-3d59-44c6-8572-6051396b2cc7
DTSTART;VALUE=DATE:20251024
DESCRIPTION:Property ID# 598086\, Locatoin: 8 Kent Terrace\, Wellington \, 
 Time: 12:00PM
SUMMARY:Auction for 
END:VEVENT
END:VCALENDAR
