BEGIN:VCALENDAR
VERSION:2.0
PRODID:icalendar-ruby
CALSCALE:GREGORIAN
BEGIN:VEVENT
DTSTAMP:20260420T115314Z
UID:20ba3083-adf5-4c4f-b8b6-2670399cbe3e
DTSTART;VALUE=DATE:20251003
DESCRIPTION:Property ID# 597113\, Time: 11:00AM
SUMMARY:Auction for 
END:VEVENT
END:VCALENDAR
