BEGIN:VCALENDAR
VERSION:2.0
PRODID:icalendar-ruby
CALSCALE:GREGORIAN
BEGIN:VEVENT
DTSTAMP:20260421T133914Z
UID:080c11a3-525d-43e5-ba5b-44b277a59f40
DTSTART;VALUE=DATE:20250826
DESCRIPTION:Property ID# 595476\, Locatoin: L1/77 Thorndon Quay\, Pipitea\,
  Time: 2:00PM
SUMMARY:Auction for 
END:VEVENT
END:VCALENDAR
