BEGIN:VCALENDAR
VERSION:2.0
PRODID:icalendar-ruby
CALSCALE:GREGORIAN
BEGIN:VEVENT
DTSTAMP:20260419T145003Z
UID:9a707d7b-cf31-4bff-ad54-54d976018ec1
DTSTART;VALUE=DATE:20250807
DESCRIPTION:Property ID# 595011\, Locatoin: 8 Kent Terrace\, Wellington (wi
 ll not be sold prior)\, Time: 12:00PM
SUMMARY:Auction for 
END:VEVENT
END:VCALENDAR
