BEGIN:VCALENDAR
VERSION:2.0
PRODID:icalendar-ruby
CALSCALE:GREGORIAN
BEGIN:VEVENT
DTSTAMP:20260422T114314Z
UID:7fa38772-315c-4cae-acbb-9fa8d1799c2a
DTSTART;VALUE=DATE:20250731
DESCRIPTION:Property ID# 594815\, Locatoin: 8 Kent Terrace\, Wellington (wi
 ll  not be sold prior)\, Time: 12:00PM
SUMMARY:Auction for 
END:VEVENT
END:VCALENDAR
