BEGIN:VCALENDAR
VERSION:2.0
PRODID:icalendar-ruby
CALSCALE:GREGORIAN
BEGIN:VEVENT
DTSTAMP:20260422T114529Z
UID:b4062e5f-2777-43e8-8ad6-cb06249c1e62
DTSTART;VALUE=DATE:20250612
DESCRIPTION:Property ID# 593108\, Locatoin: 30 Bay Rd\, Kilbirnie\, Time: 1
 :00PM
SUMMARY:Auction for 
END:VEVENT
END:VCALENDAR
