BEGIN:VCALENDAR
VERSION:2.0
PRODID:icalendar-ruby
CALSCALE:GREGORIAN
BEGIN:VEVENT
DTSTAMP:20260421T134050Z
UID:f9371aaf-5509-45b5-a9a3-b6740d42627b
DTSTART;VALUE=DATE:20250304
DESCRIPTION:Property ID# 588108\, Locatoin: L1/77 Thorndon Quay\, Time: 2:0
 0PM
SUMMARY:Auction for 
END:VEVENT
END:VCALENDAR
