BEGIN:VCALENDAR
VERSION:2.0
PRODID:icalendar-ruby
CALSCALE:GREGORIAN
BEGIN:VEVENT
DTSTAMP:20260422T115518Z
UID:a66fe01b-139c-4a45-a5ed-26ac27bdf798
DTSTART;VALUE=DATE:20250213
DESCRIPTION:Property ID# 587230\, Time: 1:00PM
SUMMARY:Auction for 
END:VEVENT
END:VCALENDAR
