BEGIN:VCALENDAR
VERSION:2.0
PRODID:icalendar-ruby
CALSCALE:GREGORIAN
BEGIN:VEVENT
DTSTAMP:20260421T134050Z
UID:0a845ebc-6e24-444c-852b-94cf7f558f0d
DTSTART;VALUE=DATE:20240618
DESCRIPTION:Property ID# 576679\, Locatoin: L1/77 Thorndon Quay\, Time: 12:
 00PM
SUMMARY:Auction for 
END:VEVENT
END:VCALENDAR
