BEGIN:VCALENDAR
VERSION:2.0
PRODID:icalendar-ruby
CALSCALE:GREGORIAN
BEGIN:VEVENT
DTSTAMP:20260425T103017Z
UID:5fdf90d9-4012-41ed-bcdc-977f8cff1fee
DTSTART;VALUE=DATE:20240418
DESCRIPTION:Property ID# 573257\, Locatoin: L1/77 Thorndon Quay\, Time: 2:0
 0PM
SUMMARY:Auction for 
END:VEVENT
END:VCALENDAR
