BEGIN:VCALENDAR
VERSION:2.0
PRODID:icalendar-ruby
CALSCALE:GREGORIAN
BEGIN:VEVENT
DTSTAMP:20260420T101918Z
UID:1bfadbd9-4624-4288-bb11-9de58f57f1d2
DTSTART;VALUE=DATE:20230927
DESCRIPTION:Property ID# 561840\, Locatoin: Harcourts Wellington City Offic
 e (Unless Sold Prior)\, Time: 1:00PM
SUMMARY:Auction for 
END:VEVENT
END:VCALENDAR
