BEGIN:VCALENDAR
VERSION:2.0
PRODID:icalendar-ruby
CALSCALE:GREGORIAN
BEGIN:VEVENT
DTSTAMP:20260421T163907Z
UID:1288958e-6a00-4fb7-b4f0-dd489aa0871e
DTSTART;VALUE=DATE:20230414
DESCRIPTION:Property ID# 555061\, Locatoin: Ray White Wellington City Level
  1 77 Thorndon Quay Wellington\, Time: 12:00PM
SUMMARY:Auction for 
END:VEVENT
END:VCALENDAR
