BEGIN:VCALENDAR
VERSION:2.0
PRODID:icalendar-ruby
CALSCALE:GREGORIAN
BEGIN:VEVENT
DTSTAMP:20260421T134702Z
UID:b5b4c2ba-9de5-4235-be53-5f9da87462b4
DTSTART;VALUE=DATE:20230216
DESCRIPTION:Property ID# 551332\, Locatoin: L1/77 Thorndon Quay\, Time: 2:0
 0PM
SUMMARY:Auction for 
END:VEVENT
END:VCALENDAR
