BEGIN:VCALENDAR
VERSION:2.0
PRODID:icalendar-ruby
CALSCALE:GREGORIAN
BEGIN:VEVENT
DTSTAMP:20260421T153811Z
UID:a97998f2-3f6c-42f2-b593-db3fe8ea4707
DTSTART;VALUE=DATE:20221026
DESCRIPTION:Property ID# 544604\, Locatoin: Harcourts Wellington City Offic
 e (unless sold prior)\, Time: 12:00PM
SUMMARY:Auction for 
END:VEVENT
END:VCALENDAR
