BEGIN:VCALENDAR
VERSION:2.0
PRODID:icalendar-ruby
CALSCALE:GREGORIAN
BEGIN:VEVENT
DTSTAMP:20260420T102102Z
UID:82f9099b-f9e7-428a-826b-79a24b66a43e
DTSTART;VALUE=DATE:20220821
DESCRIPTION:Property ID# 540482\, Locatoin: 122 Black Rock Road\, Newlands\
 , Time: 1:00PM
SUMMARY:Auction for 
END:VEVENT
END:VCALENDAR
