BEGIN:VCALENDAR
VERSION:2.0
PRODID:icalendar-ruby
CALSCALE:GREGORIAN
BEGIN:VEVENT
DTSTAMP:20260421T123005Z
UID:36dcd71c-ef0d-4b7a-8fc6-885700cb74bb
DTSTART;VALUE=DATE:20210924
DESCRIPTION:Property ID# 516230\, Locatoin: Harcourts Wellington City Offic
 e (unless sold prior)\, Time: 5:00PM
SUMMARY:Auction for 
END:VEVENT
END:VCALENDAR
