BEGIN:VCALENDAR
VERSION:2.0
PRODID:icalendar-ruby
CALSCALE:GREGORIAN
BEGIN:VEVENT
DTSTAMP:20260420T065525Z
UID:805f7e3e-d55e-4d9c-bb95-872ea4bb7d59
DTSTART;VALUE=DATE:20210723
DESCRIPTION:Property ID# 512633\, Locatoin: Lowe & Co Realty\, 8 Kent Tce\,
  Time: 12:00PM
SUMMARY:Auction for 
END:VEVENT
END:VCALENDAR
