BEGIN:VCALENDAR
VERSION:2.0
PRODID:icalendar-ruby
CALSCALE:GREGORIAN
BEGIN:VEVENT
DTSTAMP:20260422T122101Z
UID:c391096a-6ac3-442b-ab30-3627905e9e82
DTSTART;VALUE=DATE:20210708
DESCRIPTION:Property ID# 511982\, Locatoin: Lowe & Co Realty\, 8 Kent Tce\,
  Time: 1:00PM
SUMMARY:Auction for 
END:VEVENT
END:VCALENDAR
