BEGIN:VCALENDAR
VERSION:2.0
PRODID:icalendar-ruby
CALSCALE:GREGORIAN
BEGIN:VEVENT
DTSTAMP:20260424T095401Z
UID:00a9b8f1-5545-4e3d-ab7c-e41f1b8bd3b8
DTSTART;VALUE=DATE:20210610
DESCRIPTION:Property ID# 511143\, Locatoin: Harcourts Wellington City Offic
 e\, 54-56 Cambridge Terrace (not selling prior)\, Time: 2:00PM
SUMMARY:Auction for 
END:VEVENT
END:VCALENDAR
