BEGIN:VCALENDAR
VERSION:2.0
PRODID:icalendar-ruby
CALSCALE:GREGORIAN
BEGIN:VEVENT
DTSTAMP:20260421T103831Z
UID:f40a1c59-68fb-4c16-83b1-3a893075cf4b
DTSTART;VALUE=DATE:20210514
DESCRIPTION:Property ID# 509051\, Locatoin: l1/77 Thorndon Quay\, Time: 2:0
 0PM
SUMMARY:Auction for 
END:VEVENT
END:VCALENDAR
