BEGIN:VCALENDAR
VERSION:2.0
PRODID:icalendar-ruby
CALSCALE:GREGORIAN
BEGIN:VEVENT
DTSTAMP:20260422T063701Z
UID:5d9e08f7-3233-4548-b2a3-6aae2ea3ae9e
DTSTART;VALUE=DATE:20210512
DESCRIPTION:Property ID# 508220\, Locatoin: Harcourts Khandallah Office\, 6
  Dekka Street (No Prior Sale)\, Time: 4:00PM
SUMMARY:Auction for 
END:VEVENT
END:VCALENDAR
