BEGIN:VCALENDAR
VERSION:2.0
PRODID:icalendar-ruby
CALSCALE:GREGORIAN
BEGIN:VEVENT
DTSTAMP:20260422T064545Z
UID:7beab56d-3aae-4333-ab77-cd7898ee5e08
DTSTART;VALUE=DATE:20201218
DESCRIPTION:Property ID# 496930\, Locatoin: Wellington Harcourts Auction Ro
 oms - Ground floor\, 54-56 Cambridge Terrace Te Aro Wellington\, Time: 12:
 00PM
SUMMARY:Auction for 
END:VEVENT
END:VCALENDAR
