BEGIN:VCALENDAR
VERSION:2.0
PRODID:icalendar-ruby
CALSCALE:GREGORIAN
BEGIN:VEVENT
DTSTAMP:20260422T064226Z
UID:74a1758b-fc57-480a-a809-ec70f7d49880
DTSTART;VALUE=DATE:20201127
DESCRIPTION:Property ID# 494089\, Locatoin: Harcourts Wellington City Offic
 e\, 54-56 Cambridge Terrace\, Wellington (unless sold prior)\, Time: 12:00
 PM
SUMMARY:Auction for 
END:VEVENT
END:VCALENDAR
