BEGIN:VCALENDAR
VERSION:2.0
PRODID:icalendar-ruby
CALSCALE:GREGORIAN
BEGIN:VEVENT
DTSTAMP:20260420T164618Z
UID:bef7590f-d200-449b-b87c-58ffccf6774e
DTSTART;VALUE=DATE:20200922
DESCRIPTION:Property ID# 489436\, Time: 12:00PM
SUMMARY:Auction for 
END:VEVENT
END:VCALENDAR
