BEGIN:VCALENDAR
VERSION:2.0
PRODID:icalendar-ruby
CALSCALE:GREGORIAN
BEGIN:VEVENT
DTSTAMP:20260422T064345Z
UID:f5ffd348-448a-430a-94ff-8fb53970fcdd
DTSTART;VALUE=DATE:20200807
DESCRIPTION:Property ID# 485007\, Locatoin: Wellington Harcourts Auction Ro
 oms - Ground floor\, 54-56 Cambridge Terrace Te Aro Wellington\, Time: 12:
 00PM
SUMMARY:Auction for 
END:VEVENT
END:VCALENDAR
