BEGIN:VCALENDAR
VERSION:2.0
PRODID:icalendar-ruby
CALSCALE:GREGORIAN
BEGIN:VEVENT
DTSTAMP:20260421T164345Z
UID:44065319-7e72-46d6-9f10-615aa2880c5a
DTSTART;VALUE=DATE:20200716
DESCRIPTION:Property ID# 483924\, Locatoin: Ray White Wellington City Level
  1 77 Thorndon Quay Wellington\, Time: 12:00PM
SUMMARY:Auction for 
END:VEVENT
END:VCALENDAR
