BEGIN:VCALENDAR
VERSION:2.0
PRODID:icalendar-ruby
CALSCALE:GREGORIAN
BEGIN:VEVENT
DTSTAMP:20260426T041709Z
UID:a7b552c5-7d60-475f-beb7-a394b407a469
DTSTART;VALUE=DATE:20200611
DESCRIPTION:Property ID# 481885\, Locatoin: 1/77 Thorndon Quay\, Wellington
 \, Time: 1:00PM
SUMMARY:Auction for 
END:VEVENT
END:VCALENDAR
